BEGIN:VCALENDAR
VERSION:2.0
PRODID:-//ConnectAbility - ECPv6.15.18//NONSGML v1.0//EN
CALSCALE:GREGORIAN
METHOD:PUBLISH
X-ORIGINAL-URL:https://myconnectability.org
X-WR-CALDESC:Events for ConnectAbility
REFRESH-INTERVAL;VALUE=DURATION:PT1H
X-Robots-Tag:noindex
X-PUBLISHED-TTL:PT1H
BEGIN:VTIMEZONE
TZID:America/Chicago
BEGIN:DAYLIGHT
TZOFFSETFROM:-0600
TZOFFSETTO:-0500
TZNAME:CDT
DTSTART:20220313T080000
END:DAYLIGHT
BEGIN:STANDARD
TZOFFSETFROM:-0500
TZOFFSETTO:-0600
TZNAME:CST
DTSTART:20221106T070000
END:STANDARD
BEGIN:DAYLIGHT
TZOFFSETFROM:-0600
TZOFFSETTO:-0500
TZNAME:CDT
DTSTART:20230312T080000
END:DAYLIGHT
BEGIN:STANDARD
TZOFFSETFROM:-0500
TZOFFSETTO:-0600
TZNAME:CST
DTSTART:20231105T070000
END:STANDARD
BEGIN:DAYLIGHT
TZOFFSETFROM:-0600
TZOFFSETTO:-0500
TZNAME:CDT
DTSTART:20240310T080000
END:DAYLIGHT
BEGIN:STANDARD
TZOFFSETFROM:-0500
TZOFFSETTO:-0600
TZNAME:CST
DTSTART:20241103T070000
END:STANDARD
END:VTIMEZONE
BEGIN:VTIMEZONE
TZID:UTC
BEGIN:STANDARD
TZOFFSETFROM:+0000
TZOFFSETTO:+0000
TZNAME:UTC
DTSTART:20220101T000000
END:STANDARD
END:VTIMEZONE
BEGIN:VEVENT
DTSTART;TZID=America/Chicago:20230104T114500
DTEND;TZID=America/Chicago:20230104T124500
DTSTAMP:20260424T155635
CREATED:20230109T064908Z
LAST-MODIFIED:20230109T200808Z
UID:10002213-1672832700-1672836300@myconnectability.org
SUMMARY:Hatha Yoga - Virtual
DESCRIPTION:Join Sandy in Virtual Hatha Yoga on Wednesday 11:45 AM – 12:45 PM. This group does not meet on the 3rd Wednesday of the month. \nReduce stress and increase strength by joining the breath\, mind\, and body. \nThis practice is for all levels and will include standing\, balance\, and seated postures. \n\n\nZoom: https://zoom.us/j/96219326157\n\nMeeting ID: 962 1932 6157\n\n\nOne tap mobile\n+13462487799\,\,96219326157#\n\n\nYou can also dial in using your phone.\n+1 (346) 248 7799\nMeeting ID: 962 1932 6157\n  \n  \nFor questions please contact Shelia Brown: \n210-672-4097 (call / text ) or email sbrown@myconnectability.org
URL:https://myconnectability.org/event/yoga-23/2023-01-04/
LOCATION:TX
CATEGORIES:Care Coordination,Family + Caregiver Support,Peer Mentoring
END:VEVENT
BEGIN:VEVENT
DTSTART;TZID=UTC:20230104T180000
DTEND;TZID=UTC:20230104T193000
DTSTAMP:20260424T155635
CREATED:20211228T200247Z
LAST-MODIFIED:20230129T180941Z
UID:10002247-1672855200-1672860600@myconnectability.org
SUMMARY:Living with Multiple Sclerosis - In Person (ConnectAbility)
DESCRIPTION:Join our monthly meeting to:\n\n\nLearn new information and strategies for confronting problems\nDevelop personal insights and achieving personal growth\nBe helpful to others\nFeel more connected to others who understand your experiences\nDevelop a connection to a community and personal identification with a social group\n\n\nIf you have questions\, please email to Julie Schweppe at schweppejulie@gmail.com.\n\nWe will be meeting at 5101 Medical Dr. 1st Floor – Please wear a mask for entry into the hospital.
URL:https://myconnectability.org/event/ms23/2023-01-04/
LOCATION:TX
CATEGORIES:Care Coordination,Family + Caregiver Support,Peer Mentoring
END:VEVENT
BEGIN:VEVENT
DTSTART;TZID=UTC:20230105T150000
DTEND;TZID=UTC:20230105T160000
DTSTAMP:20260424T155635
CREATED:20221212T195744Z
LAST-MODIFIED:20230109T065013Z
UID:10002520-1672930800-1672934400@myconnectability.org
SUMMARY:Chair Yoga - Virtual
DESCRIPTION:  \nChair Yoga is a virtual yoga class for all. \n  \nIt is facilitated by Sandy Weiss\, who has been practicing yoga for over 19 years and teaches hatha yoga\, where her focus is on using your breathing\, maintaining strength\, and relaxing your body. \n\nJoin us for virtual Chair Yoga every Thursday\, except the 3rd Thursday of the month.\n\n\n3:00 – 4:00 PM\n\n\nZoom: https://zoom.us/j/92970294308\nMeeting ID: 929 7029 4308\n\n\nOne tap mobile\n+13462487799\,\,92970294308#\n\n\nYou can also dial in using your phone.\n+1 (346) 248 7799\nMeeting ID: 929 7029 4308\n  \nFor further information please contact Shelia (call/text) 210-672-4097 or email sbrown@myconnectability.org
URL:https://myconnectability.org/event/chairyoga23/2023-01-05/
LOCATION:TX
CATEGORIES:Care Coordination,Family + Caregiver Support,Peer Mentoring
END:VEVENT
BEGIN:VEVENT
DTSTART;TZID=America/Chicago:20230107T100000
DTEND;TZID=America/Chicago:20230107T113000
DTSTAMP:20260424T155635
CREATED:20230110T213722Z
LAST-MODIFIED:20230110T213929Z
UID:10002514-1673085600-1673091000@myconnectability.org
SUMMARY:Expressive Therapeutic Rhythm Making - In Person (Ecumenical Center)
DESCRIPTION:  \nAn ongoing project of the Therapeutic Expressive Arts Institute of South Texas \nGet in the groove! Join us at The Ecumenical Center Headquarters for a no-cost\, monthly rhythm making session. No experience is necessary! \nDrums and percussion are provided. Individuals of all abilities with\nor without previous musical experience are encouraged to attend. \nIt is a time for the community to connect\, bond with friends and family\, energize the mind and body\, relieve stress\, and have fun! \nSocial distancing and face masks are required. Maximum 30 people! To reserve a seat\, please call 210.616.0885 or email: Lcenanovic@ecrh.org \nEvery first Saturday from 10 AM to 11:30 AM \nLocation: The Ecumenical Center Headquarters\n8310 Ewing Halsell Drive\, San Antonio\, TX 78229 \nLed by Jorge Ochoa – Occupational Therapist \nTestimonials: \n“ Playing the drums helps with my anxiety\, fears\, and need to belong. The rhythms are a great release … ” \n“ I am feeling 100% uplifted and energized! Relaxed at the same time. So chill! … ” \n“ …Great being a part of a group. Came in nervous\, but left feeling close to the other members. Stress was left behind!! ” \nwww.ecrh.org \n 
URL:https://myconnectability.org/event/drum-2/2023-01-07/
LOCATION:TX
CATEGORIES:Care Coordination,Family + Caregiver Support,Peer Mentoring
END:VEVENT
END:VCALENDAR