BEGIN:VCALENDAR
VERSION:2.0
PRODID:-//ConnectAbility - ECPv6.15.18//NONSGML v1.0//EN
CALSCALE:GREGORIAN
METHOD:PUBLISH
X-WR-CALNAME:ConnectAbility
X-ORIGINAL-URL:https://myconnectability.org
X-WR-CALDESC:Events for ConnectAbility
REFRESH-INTERVAL;VALUE=DURATION:PT1H
X-Robots-Tag:noindex
X-PUBLISHED-TTL:PT1H
BEGIN:VTIMEZONE
TZID:UTC
BEGIN:STANDARD
TZOFFSETFROM:+0000
TZOFFSETTO:+0000
TZNAME:UTC
DTSTART:20250101T000000
END:STANDARD
END:VTIMEZONE
BEGIN:VEVENT
DTSTART;TZID=UTC:20260502T150000
DTEND;TZID=UTC:20260502T163000
DTSTAMP:20260425T152218
CREATED:20260311T180451Z
LAST-MODIFIED:20260313T192121Z
UID:10007312-1777734000-1777739400@myconnectability.org
SUMMARY:S.T.O.M.A. (Ostomy Support Group) - In Person
DESCRIPTION:The South Texas Osto-Mate Association (S.T.O.M.A.) support group offers social and educational opportunities. It meets on the 1st Saturday of each month from 3 PM – 4:30 PM. (*Please Note* This group will meet on the 2nd Saturday during April\, July\, and September). \nRegister by contacting Shelia Brown at 210.672.4097 or email contact@myconnectability.org for more info. \nThis group meets at ConnectAbility’s Med Center location:\n5101 Medical Dr\, 1st Floor\, Rm 132.
URL:https://myconnectability.org/event/stoma-ostomy-support-group/2026-05-02/
LOCATION:ConnectAbility at Med Center\, 5101 Medical Drive\, San Antonio\, TX\, 78229\, United States
CATEGORIES:Care Coordination,Family + Caregiver Support,Peer Mentoring
END:VEVENT
BEGIN:VEVENT
DTSTART;TZID=UTC:20260606T150000
DTEND;TZID=UTC:20260606T163000
DTSTAMP:20260425T152218
CREATED:20260311T180451Z
LAST-MODIFIED:20260313T192121Z
UID:10007313-1780758000-1780763400@myconnectability.org
SUMMARY:S.T.O.M.A. (Ostomy Support Group) - In Person
DESCRIPTION:The South Texas Osto-Mate Association (S.T.O.M.A.) support group offers social and educational opportunities. It meets on the 1st Saturday of each month from 3 PM – 4:30 PM. (*Please Note* This group will meet on the 2nd Saturday during April\, July\, and September). \nRegister by contacting Shelia Brown at 210.672.4097 or email contact@myconnectability.org for more info. \nThis group meets at ConnectAbility’s Med Center location:\n5101 Medical Dr\, 1st Floor\, Rm 132.
URL:https://myconnectability.org/event/stoma-ostomy-support-group/2026-06-06/
LOCATION:ConnectAbility at Med Center\, 5101 Medical Drive\, San Antonio\, TX\, 78229\, United States
CATEGORIES:Care Coordination,Family + Caregiver Support,Peer Mentoring
END:VEVENT
BEGIN:VEVENT
DTSTART;TZID=UTC:20260711T150000
DTEND;TZID=UTC:20260711T163000
DTSTAMP:20260425T152218
CREATED:20260311T180451Z
LAST-MODIFIED:20260313T192121Z
UID:10007314-1783782000-1783787400@myconnectability.org
SUMMARY:S.T.O.M.A. (Ostomy Support Group) - In Person
DESCRIPTION:The South Texas Osto-Mate Association (S.T.O.M.A.) support group offers social and educational opportunities. It meets on the 1st Saturday of each month from 3 PM – 4:30 PM. (*Please Note* This group will meet on the 2nd Saturday during April\, July\, and September). \nRegister by contacting Shelia Brown at 210.672.4097 or email contact@myconnectability.org for more info. \nThis group meets at ConnectAbility’s Med Center location:\n5101 Medical Dr\, 1st Floor\, Rm 132.
URL:https://myconnectability.org/event/stoma-ostomy-support-group/2026-07-11/
LOCATION:ConnectAbility at Med Center\, 5101 Medical Drive\, San Antonio\, TX\, 78229\, United States
CATEGORIES:Care Coordination,Family + Caregiver Support,Peer Mentoring
END:VEVENT
BEGIN:VEVENT
DTSTART;TZID=UTC:20260801T150000
DTEND;TZID=UTC:20260801T163000
DTSTAMP:20260425T152218
CREATED:20260311T180451Z
LAST-MODIFIED:20260313T192121Z
UID:10007315-1785596400-1785601800@myconnectability.org
SUMMARY:S.T.O.M.A. (Ostomy Support Group) - In Person
DESCRIPTION:The South Texas Osto-Mate Association (S.T.O.M.A.) support group offers social and educational opportunities. It meets on the 1st Saturday of each month from 3 PM – 4:30 PM. (*Please Note* This group will meet on the 2nd Saturday during April\, July\, and September). \nRegister by contacting Shelia Brown at 210.672.4097 or email contact@myconnectability.org for more info. \nThis group meets at ConnectAbility’s Med Center location:\n5101 Medical Dr\, 1st Floor\, Rm 132.
URL:https://myconnectability.org/event/stoma-ostomy-support-group/2026-08-01/
LOCATION:ConnectAbility at Med Center\, 5101 Medical Drive\, San Antonio\, TX\, 78229\, United States
CATEGORIES:Care Coordination,Family + Caregiver Support,Peer Mentoring
END:VEVENT
BEGIN:VEVENT
DTSTART;TZID=UTC:20260912T150000
DTEND;TZID=UTC:20260912T163000
DTSTAMP:20260425T152218
CREATED:20260311T180451Z
LAST-MODIFIED:20260313T192121Z
UID:10007316-1789225200-1789230600@myconnectability.org
SUMMARY:S.T.O.M.A. (Ostomy Support Group) - In Person
DESCRIPTION:The South Texas Osto-Mate Association (S.T.O.M.A.) support group offers social and educational opportunities. It meets on the 1st Saturday of each month from 3 PM – 4:30 PM. (*Please Note* This group will meet on the 2nd Saturday during April\, July\, and September). \nRegister by contacting Shelia Brown at 210.672.4097 or email contact@myconnectability.org for more info. \nThis group meets at ConnectAbility’s Med Center location:\n5101 Medical Dr\, 1st Floor\, Rm 132.
URL:https://myconnectability.org/event/stoma-ostomy-support-group/2026-09-12/
LOCATION:ConnectAbility at Med Center\, 5101 Medical Drive\, San Antonio\, TX\, 78229\, United States
CATEGORIES:Care Coordination,Family + Caregiver Support,Peer Mentoring
END:VEVENT
BEGIN:VEVENT
DTSTART;TZID=UTC:20261003T150000
DTEND;TZID=UTC:20261003T163000
DTSTAMP:20260425T152218
CREATED:20260311T180451Z
LAST-MODIFIED:20260313T192121Z
UID:10007317-1791039600-1791045000@myconnectability.org
SUMMARY:S.T.O.M.A. (Ostomy Support Group) - In Person
DESCRIPTION:The South Texas Osto-Mate Association (S.T.O.M.A.) support group offers social and educational opportunities. It meets on the 1st Saturday of each month from 3 PM – 4:30 PM. (*Please Note* This group will meet on the 2nd Saturday during April\, July\, and September). \nRegister by contacting Shelia Brown at 210.672.4097 or email contact@myconnectability.org for more info. \nThis group meets at ConnectAbility’s Med Center location:\n5101 Medical Dr\, 1st Floor\, Rm 132.
URL:https://myconnectability.org/event/stoma-ostomy-support-group/2026-10-03/
LOCATION:ConnectAbility at Med Center\, 5101 Medical Drive\, San Antonio\, TX\, 78229\, United States
CATEGORIES:Care Coordination,Family + Caregiver Support,Peer Mentoring
END:VEVENT
BEGIN:VEVENT
DTSTART;TZID=UTC:20261107T150000
DTEND;TZID=UTC:20261107T163000
DTSTAMP:20260425T152218
CREATED:20260311T180451Z
LAST-MODIFIED:20260313T192121Z
UID:10007318-1794063600-1794069000@myconnectability.org
SUMMARY:S.T.O.M.A. (Ostomy Support Group) - In Person
DESCRIPTION:The South Texas Osto-Mate Association (S.T.O.M.A.) support group offers social and educational opportunities. It meets on the 1st Saturday of each month from 3 PM – 4:30 PM. (*Please Note* This group will meet on the 2nd Saturday during April\, July\, and September). \nRegister by contacting Shelia Brown at 210.672.4097 or email contact@myconnectability.org for more info. \nThis group meets at ConnectAbility’s Med Center location:\n5101 Medical Dr\, 1st Floor\, Rm 132.
URL:https://myconnectability.org/event/stoma-ostomy-support-group/2026-11-07/
LOCATION:ConnectAbility at Med Center\, 5101 Medical Drive\, San Antonio\, TX\, 78229\, United States
CATEGORIES:Care Coordination,Family + Caregiver Support,Peer Mentoring
END:VEVENT
BEGIN:VEVENT
DTSTART;TZID=UTC:20261205T150000
DTEND;TZID=UTC:20261205T163000
DTSTAMP:20260425T152218
CREATED:20260311T180451Z
LAST-MODIFIED:20260313T192121Z
UID:10007319-1796482800-1796488200@myconnectability.org
SUMMARY:S.T.O.M.A. (Ostomy Support Group) - In Person
DESCRIPTION:The South Texas Osto-Mate Association (S.T.O.M.A.) support group offers social and educational opportunities. It meets on the 1st Saturday of each month from 3 PM – 4:30 PM. (*Please Note* This group will meet on the 2nd Saturday during April\, July\, and September). \nRegister by contacting Shelia Brown at 210.672.4097 or email contact@myconnectability.org for more info. \nThis group meets at ConnectAbility’s Med Center location:\n5101 Medical Dr\, 1st Floor\, Rm 132.
URL:https://myconnectability.org/event/stoma-ostomy-support-group/2026-12-05/
LOCATION:ConnectAbility at Med Center\, 5101 Medical Drive\, San Antonio\, TX\, 78229\, United States
CATEGORIES:Care Coordination,Family + Caregiver Support,Peer Mentoring
END:VEVENT
BEGIN:VEVENT
DTSTART;TZID=UTC:20270102T150000
DTEND;TZID=UTC:20270102T163000
DTSTAMP:20260425T152218
CREATED:20260311T180451Z
LAST-MODIFIED:20260313T192121Z
UID:10007320-1798902000-1798907400@myconnectability.org
SUMMARY:S.T.O.M.A. (Ostomy Support Group) - In Person
DESCRIPTION:The South Texas Osto-Mate Association (S.T.O.M.A.) support group offers social and educational opportunities. It meets on the 1st Saturday of each month from 3 PM – 4:30 PM. (*Please Note* This group will meet on the 2nd Saturday during April\, July\, and September). \nRegister by contacting Shelia Brown at 210.672.4097 or email contact@myconnectability.org for more info. \nThis group meets at ConnectAbility’s Med Center location:\n5101 Medical Dr\, 1st Floor\, Rm 132.
URL:https://myconnectability.org/event/stoma-ostomy-support-group/2027-01-02/
LOCATION:ConnectAbility at Med Center\, 5101 Medical Drive\, San Antonio\, TX\, 78229\, United States
CATEGORIES:Care Coordination,Family + Caregiver Support,Peer Mentoring
END:VEVENT
BEGIN:VEVENT
DTSTART;TZID=UTC:20270206T150000
DTEND;TZID=UTC:20270206T163000
DTSTAMP:20260425T152218
CREATED:20260311T180451Z
LAST-MODIFIED:20260313T192121Z
UID:10007321-1801926000-1801931400@myconnectability.org
SUMMARY:S.T.O.M.A. (Ostomy Support Group) - In Person
DESCRIPTION:The South Texas Osto-Mate Association (S.T.O.M.A.) support group offers social and educational opportunities. It meets on the 1st Saturday of each month from 3 PM – 4:30 PM. (*Please Note* This group will meet on the 2nd Saturday during April\, July\, and September). \nRegister by contacting Shelia Brown at 210.672.4097 or email contact@myconnectability.org for more info. \nThis group meets at ConnectAbility’s Med Center location:\n5101 Medical Dr\, 1st Floor\, Rm 132.
URL:https://myconnectability.org/event/stoma-ostomy-support-group/2027-02-06/
LOCATION:ConnectAbility at Med Center\, 5101 Medical Drive\, San Antonio\, TX\, 78229\, United States
CATEGORIES:Care Coordination,Family + Caregiver Support,Peer Mentoring
END:VEVENT
END:VCALENDAR