BEGIN:VCALENDAR
VERSION:2.0
PRODID:-//ConnectAbility - ECPv6.15.18//NONSGML v1.0//EN
CALSCALE:GREGORIAN
METHOD:PUBLISH
X-ORIGINAL-URL:https://myconnectability.org
X-WR-CALDESC:Events for ConnectAbility
REFRESH-INTERVAL;VALUE=DURATION:PT1H
X-Robots-Tag:noindex
X-PUBLISHED-TTL:PT1H
BEGIN:VTIMEZONE
TZID:UTC
BEGIN:STANDARD
TZOFFSETFROM:+0000
TZOFFSETTO:+0000
TZNAME:UTC
DTSTART:20240101T000000
END:STANDARD
END:VTIMEZONE
BEGIN:VTIMEZONE
TZID:America/Chicago
BEGIN:DAYLIGHT
TZOFFSETFROM:-0600
TZOFFSETTO:-0500
TZNAME:CDT
DTSTART:20240310T080000
END:DAYLIGHT
BEGIN:STANDARD
TZOFFSETFROM:-0500
TZOFFSETTO:-0600
TZNAME:CST
DTSTART:20241103T070000
END:STANDARD
BEGIN:DAYLIGHT
TZOFFSETFROM:-0600
TZOFFSETTO:-0500
TZNAME:CDT
DTSTART:20250309T080000
END:DAYLIGHT
BEGIN:STANDARD
TZOFFSETFROM:-0500
TZOFFSETTO:-0600
TZNAME:CST
DTSTART:20251102T070000
END:STANDARD
BEGIN:DAYLIGHT
TZOFFSETFROM:-0600
TZOFFSETTO:-0500
TZNAME:CDT
DTSTART:20260308T080000
END:DAYLIGHT
BEGIN:STANDARD
TZOFFSETFROM:-0500
TZOFFSETTO:-0600
TZNAME:CST
DTSTART:20261101T070000
END:STANDARD
END:VTIMEZONE
BEGIN:VEVENT
DTSTART;TZID=UTC:20250905T150000
DTEND;TZID=UTC:20250905T153000
DTSTAMP:20260422T175119
CREATED:20250228T211513Z
LAST-MODIFIED:20250228T211513Z
UID:10004251-1757084400-1757086200@myconnectability.org
SUMMARY:The LIVE Group: Low Impact Virtual Exercise Class - Virtual Only
DESCRIPTION:Join us every Monday\, Wednesday\, and Friday from 3:00 – 3:30 PM for an easy\, low-impact exercise group from the comfort of your home!\n\nALL skill levels are welcome!\nClick the link to join us and get ready to LIVE! https://zoom.us/j/95587045815\n\n\nFor more information\, contact Shelia Brown.  210-672-4097 (call/text) or sbrown@myconnectability.org
URL:https://myconnectability.org/event/live-group/2025-09-05/
LOCATION:ZOOM
CATEGORIES:Care Coordination,Family + Caregiver Support,Peer Mentoring
END:VEVENT
BEGIN:VEVENT
DTSTART;TZID=UTC:20250908T150000
DTEND;TZID=UTC:20250908T153000
DTSTAMP:20260422T175119
CREATED:20250228T211513Z
LAST-MODIFIED:20250228T211513Z
UID:10004252-1757343600-1757345400@myconnectability.org
SUMMARY:The LIVE Group: Low Impact Virtual Exercise Class - Virtual Only
DESCRIPTION:Join us every Monday\, Wednesday\, and Friday from 3:00 – 3:30 PM for an easy\, low-impact exercise group from the comfort of your home!\n\nALL skill levels are welcome!\nClick the link to join us and get ready to LIVE! https://zoom.us/j/95587045815\n\n\nFor more information\, contact Shelia Brown.  210-672-4097 (call/text) or sbrown@myconnectability.org
URL:https://myconnectability.org/event/live-group/2025-09-08/
LOCATION:ZOOM
CATEGORIES:Care Coordination,Family + Caregiver Support,Peer Mentoring
END:VEVENT
BEGIN:VEVENT
DTSTART;TZID=America/Chicago:20250909T190000
DTEND;TZID=America/Chicago:20250909T203000
DTSTAMP:20260422T175119
CREATED:20241220T193548Z
LAST-MODIFIED:20241220T193548Z
UID:10005809-1757444400-1757449800@myconnectability.org
SUMMARY:W.A.I.T.T. - We're All In This Together (Brain Tumor Support Group) - In Person (ConnectAbility)
DESCRIPTION:W.A.I.T.T. is a group of brain tumor fighters and survivors and their family members – anyone in any part of their journey or connection to a brain tumor – meeting to discuss life as we know it. We share stories\, struggles\, successes and inspiration; we ask each other for insight\, suggestions\, and recommendations. On occasion\, we have expert speakers on topics of interest to the group. All are welcome. \nThis group meets on the 2nd Tuesday of the month from 7PM – 8:30PM at ConnectAbility: 5101 Medical Dr\, 1st Floor\, Rm 132.
URL:https://myconnectability.org/event/w-a-i-t-t-were-all-in-this-together-brain-tumor-support-group-in-person-connectability-2/2025-09-09/
LOCATION:ConnectAbility Rm 132\, 5101 Medical Drive\, San Antonio\, TX\, 78229\, United States
CATEGORIES:Care Coordination,Family + Caregiver Support,Peer Mentoring
END:VEVENT
BEGIN:VEVENT
DTSTART;TZID=UTC:20250910T150000
DTEND;TZID=UTC:20250910T153000
DTSTAMP:20260422T175119
CREATED:20250228T211513Z
LAST-MODIFIED:20250228T211513Z
UID:10004253-1757516400-1757518200@myconnectability.org
SUMMARY:The LIVE Group: Low Impact Virtual Exercise Class - Virtual Only
DESCRIPTION:Join us every Monday\, Wednesday\, and Friday from 3:00 – 3:30 PM for an easy\, low-impact exercise group from the comfort of your home!\n\nALL skill levels are welcome!\nClick the link to join us and get ready to LIVE! https://zoom.us/j/95587045815\n\n\nFor more information\, contact Shelia Brown.  210-672-4097 (call/text) or sbrown@myconnectability.org
URL:https://myconnectability.org/event/live-group/2025-09-10/
LOCATION:ZOOM
CATEGORIES:Care Coordination,Family + Caregiver Support,Peer Mentoring
END:VEVENT
BEGIN:VEVENT
DTSTART;TZID=America/Chicago:20250911T130000
DTEND;TZID=America/Chicago:20250911T143000
DTSTAMP:20260422T175119
CREATED:20250919T220705Z
LAST-MODIFIED:20250919T220705Z
UID:10006695-1757595600-1757601000@myconnectability.org
SUMMARY:Boerne Neuro Support Group - In Person (Boerne)
DESCRIPTION:Join Boerne Neuro Support Group for people with Parkinson’s on the 2nd Thursday of each month from 1:00 PM – 2:30 PM. \nLight refreshments will be served. \nWe will meet in person at:\nSenior Center at the old Kronkosky Place\n17 Old San Antonio Rd\, Boerne\, TX 78006 \nTo RSVP or ask questions\, please contact Shelia Brown at 210-672-4097 or email contact@myconnectability.org
URL:https://myconnectability.org/event/boerne-neuro-support-group/2025-09-11/
LOCATION:Senior Center at Kronkosky Place\, 17 Old San Antonio Rd\, Boerne\, TX\, 78006
CATEGORIES:Care Coordination,Family + Caregiver Support,Peer Mentoring
END:VEVENT
BEGIN:VEVENT
DTSTART;TZID=America/Chicago:20250911T163000
DTEND;TZID=America/Chicago:20250911T170000
DTSTAMP:20260422T175119
CREATED:20250527T173759Z
LAST-MODIFIED:20250527T173938Z
UID:10006328-1757608200-1757610000@myconnectability.org
SUMMARY:Virtual Chair Zumba Class
DESCRIPTION:Every Thursday on Zoom! \n4:30 PM – 5:00 PM \nGet your dance on! Join us for a 30-minute dance fitness party where we’ll enjoy some great Latin music and fun dance moves from the comfort of your home! \nThis chair Zumba class focuses on upper body movements. Zumba is great for cardio health\, muscle endurance\, and most importantly having fun! \nZumba is for everybody and every ability level so click the link and let’s get moving! \nClick here to attend via Zoom:  https://us06web.zoom.us/j/89339423603
URL:https://myconnectability.org/event/virtual-chair-zumba-2/2025-09-11/
LOCATION:ZOOM
CATEGORIES:Care Coordination,Family + Caregiver Support,Peer Mentoring
END:VEVENT
BEGIN:VEVENT
DTSTART;TZID=America/Chicago:20250911T180000
DTEND;TZID=America/Chicago:20250911T190000
DTSTAMP:20260422T175119
CREATED:20250527T173043Z
LAST-MODIFIED:20250527T173443Z
UID:10006284-1757613600-1757617200@myconnectability.org
SUMMARY:Virtual Book Club - Virtual Only
DESCRIPTION:Introducing our new Virtual Book Club. Great reads from the comfort of your home! \nJoin us on Zoom every Thursday evening at 6:00 PM beginning on May 22. \nWe will choose a different book every month to “read” (or listen to the audiobook) and discuss together\, virtually! Click the Zoom link to attend: https://us06web.zoom.us/j/87686212819 \nContact Shelia brown at 210.672.4097 or sbrown@myconnectability.org for more info.
URL:https://myconnectability.org/event/virtual-book-club-2/2025-09-11/
LOCATION:ZOOM
CATEGORIES:Care Coordination,Family + Caregiver Support,Peer Mentoring
END:VEVENT
BEGIN:VEVENT
DTSTART;TZID=UTC:20250912T150000
DTEND;TZID=UTC:20250912T153000
DTSTAMP:20260422T175119
CREATED:20250228T211513Z
LAST-MODIFIED:20250228T211513Z
UID:10004254-1757689200-1757691000@myconnectability.org
SUMMARY:The LIVE Group: Low Impact Virtual Exercise Class - Virtual Only
DESCRIPTION:Join us every Monday\, Wednesday\, and Friday from 3:00 – 3:30 PM for an easy\, low-impact exercise group from the comfort of your home!\n\nALL skill levels are welcome!\nClick the link to join us and get ready to LIVE! https://zoom.us/j/95587045815\n\n\nFor more information\, contact Shelia Brown.  210-672-4097 (call/text) or sbrown@myconnectability.org
URL:https://myconnectability.org/event/live-group/2025-09-12/
LOCATION:ZOOM
CATEGORIES:Care Coordination,Family + Caregiver Support,Peer Mentoring
END:VEVENT
BEGIN:VEVENT
DTSTART;TZID=America/Chicago:20250913T110000
DTEND;TZID=America/Chicago:20250913T150000
DTSTAMP:20260422T175119
CREATED:20250826T220919Z
LAST-MODIFIED:20250826T221343Z
UID:10006673-1757761200-1757775600@myconnectability.org
SUMMARY:2025 ConnectAbility Carnival
DESCRIPTION:Join ConnectAbility for our annual summer Carnival event! We will have games\, prizes\, and food galore! Located at the Children’s Shelter Splash Pad area. \n***This event is FREE for people who receive Care Coordination services and people who attend ConnectAbility Support Groups ONLY. *** \nYou MUST register to attend: bit.ly/ConnectAbility-Carnival \nPlease Note! If you ride VIA/VIA Trans\, you need to request to be dropped off and picked up at the “Children’s Shelter Splash Pad”. \nThank you!
URL:https://myconnectability.org/event/2025-carnival/
LOCATION:Children’s Shelter Splash Pad\, 2939 W Woodlawn Ave\, San Antonio\, TX\, 78228\, United States
CATEGORIES:Care Coordination,Family + Caregiver Support,Peer Mentoring
END:VEVENT
BEGIN:VEVENT
DTSTART;TZID=UTC:20250915T150000
DTEND;TZID=UTC:20250915T153000
DTSTAMP:20260422T175119
CREATED:20250228T211513Z
LAST-MODIFIED:20250228T211513Z
UID:10004255-1757948400-1757950200@myconnectability.org
SUMMARY:The LIVE Group: Low Impact Virtual Exercise Class - Virtual Only
DESCRIPTION:Join us every Monday\, Wednesday\, and Friday from 3:00 – 3:30 PM for an easy\, low-impact exercise group from the comfort of your home!\n\nALL skill levels are welcome!\nClick the link to join us and get ready to LIVE! https://zoom.us/j/95587045815\n\n\nFor more information\, contact Shelia Brown.  210-672-4097 (call/text) or sbrown@myconnectability.org
URL:https://myconnectability.org/event/live-group/2025-09-15/
LOCATION:ZOOM
CATEGORIES:Care Coordination,Family + Caregiver Support,Peer Mentoring
END:VEVENT
BEGIN:VEVENT
DTSTART;TZID=America/Chicago:20250916T183000
DTEND;TZID=America/Chicago:20250916T203000
DTSTAMP:20260422T175119
CREATED:20241220T195024Z
LAST-MODIFIED:20241220T195024Z
UID:10005877-1758047400-1758054600@myconnectability.org
SUMMARY:Alamo Head Injury Association Support Groups for the CAREGIVERS of Survivors of Acquired Brain Injury - Virtual ONLY (Microsoft Teams)
DESCRIPTION:Join us on the 3rd Tuesday of each month from 6:30PM – 8:30PM at ConnectAbility for AHIA’s monthly support groups for the Caregivers of the survivors of an acquired brain injury. \nThis support group is exclusively for Caregivers. If you care for a loved one with an acquired brain injury\, you are invited to join this virtual meeting on Microsoft Teams. Please register to attend and an email with the Teams link will be sent to you.
URL:https://myconnectability.org/event/alamo-head-injury-association-support-groups-for-the-caregivers-of-survivors-of-acquired-brain-injury-virtual-only-microsoft-teams-2/2025-09-16/
LOCATION:Microsoft Teams
CATEGORIES:Care Coordination,Family + Caregiver Support,Peer Mentoring
END:VEVENT
BEGIN:VEVENT
DTSTART;TZID=America/Chicago:20250917T130000
DTEND;TZID=America/Chicago:20250917T143000
DTSTAMP:20260422T175119
CREATED:20250919T221229Z
LAST-MODIFIED:20250919T221229Z
UID:10006776-1758114000-1758119400@myconnectability.org
SUMMARY:San Antonio Neuro Support Group for People with Parkinson's - In Person (Med Center)
DESCRIPTION:Join our San Antonio Neuro Support Group for people with Parkinson’s on the 3rd Wednesday of each month from 1:00 PM – 2:30 PM. \nLight refreshments will be served. \nWe will meet in person at:\nConnectAbility @ Med Center\n5101 Medical Drive\, San Antonio\, TX 78229 \nTo RSVP or ask questions\, please contact Shelia Brown at 210-672-4097 or email contact@myconnectability.org
URL:https://myconnectability.org/event/san-antonio-neuro-support-group-for-people-with-parkinsons-in-person-med-center/2025-09-17/
LOCATION:ConnectAbility Rm 132\, 5101 Medical Drive\, San Antonio\, TX\, 78229\, United States
END:VEVENT
BEGIN:VEVENT
DTSTART;TZID=UTC:20250917T150000
DTEND;TZID=UTC:20250917T153000
DTSTAMP:20260422T175119
CREATED:20250228T211513Z
LAST-MODIFIED:20250228T211513Z
UID:10004256-1758121200-1758123000@myconnectability.org
SUMMARY:The LIVE Group: Low Impact Virtual Exercise Class - Virtual Only
DESCRIPTION:Join us every Monday\, Wednesday\, and Friday from 3:00 – 3:30 PM for an easy\, low-impact exercise group from the comfort of your home!\n\nALL skill levels are welcome!\nClick the link to join us and get ready to LIVE! https://zoom.us/j/95587045815\n\n\nFor more information\, contact Shelia Brown.  210-672-4097 (call/text) or sbrown@myconnectability.org
URL:https://myconnectability.org/event/live-group/2025-09-17/
LOCATION:ZOOM
CATEGORIES:Care Coordination,Family + Caregiver Support,Peer Mentoring
END:VEVENT
BEGIN:VEVENT
DTSTART;TZID=America/Chicago:20250918T163000
DTEND;TZID=America/Chicago:20250918T170000
DTSTAMP:20260422T175119
CREATED:20250527T173759Z
LAST-MODIFIED:20250527T173938Z
UID:10006329-1758213000-1758214800@myconnectability.org
SUMMARY:Virtual Chair Zumba Class
DESCRIPTION:Every Thursday on Zoom! \n4:30 PM – 5:00 PM \nGet your dance on! Join us for a 30-minute dance fitness party where we’ll enjoy some great Latin music and fun dance moves from the comfort of your home! \nThis chair Zumba class focuses on upper body movements. Zumba is great for cardio health\, muscle endurance\, and most importantly having fun! \nZumba is for everybody and every ability level so click the link and let’s get moving! \nClick here to attend via Zoom:  https://us06web.zoom.us/j/89339423603
URL:https://myconnectability.org/event/virtual-chair-zumba-2/2025-09-18/
LOCATION:ZOOM
CATEGORIES:Care Coordination,Family + Caregiver Support,Peer Mentoring
END:VEVENT
BEGIN:VEVENT
DTSTART;TZID=America/Chicago:20250918T180000
DTEND;TZID=America/Chicago:20250918T190000
DTSTAMP:20260422T175119
CREATED:20250527T173043Z
LAST-MODIFIED:20250527T173443Z
UID:10006285-1758218400-1758222000@myconnectability.org
SUMMARY:Virtual Book Club - Virtual Only
DESCRIPTION:Introducing our new Virtual Book Club. Great reads from the comfort of your home! \nJoin us on Zoom every Thursday evening at 6:00 PM beginning on May 22. \nWe will choose a different book every month to “read” (or listen to the audiobook) and discuss together\, virtually! Click the Zoom link to attend: https://us06web.zoom.us/j/87686212819 \nContact Shelia brown at 210.672.4097 or sbrown@myconnectability.org for more info.
URL:https://myconnectability.org/event/virtual-book-club-2/2025-09-18/
LOCATION:ZOOM
CATEGORIES:Care Coordination,Family + Caregiver Support,Peer Mentoring
END:VEVENT
BEGIN:VEVENT
DTSTART;TZID=UTC:20250919T150000
DTEND;TZID=UTC:20250919T153000
DTSTAMP:20260422T175119
CREATED:20250228T211513Z
LAST-MODIFIED:20250228T211513Z
UID:10004257-1758294000-1758295800@myconnectability.org
SUMMARY:The LIVE Group: Low Impact Virtual Exercise Class - Virtual Only
DESCRIPTION:Join us every Monday\, Wednesday\, and Friday from 3:00 – 3:30 PM for an easy\, low-impact exercise group from the comfort of your home!\n\nALL skill levels are welcome!\nClick the link to join us and get ready to LIVE! https://zoom.us/j/95587045815\n\n\nFor more information\, contact Shelia Brown.  210-672-4097 (call/text) or sbrown@myconnectability.org
URL:https://myconnectability.org/event/live-group/2025-09-19/
LOCATION:ZOOM
CATEGORIES:Care Coordination,Family + Caregiver Support,Peer Mentoring
END:VEVENT
BEGIN:VEVENT
DTSTART;TZID=UTC:20250920T093000
DTEND;TZID=UTC:20250920T113000
DTSTAMP:20260422T175119
CREATED:20241220T193859Z
LAST-MODIFIED:20250527T182757Z
UID:10006656-1758360600-1758367800@myconnectability.org
SUMMARY:Low Vision Support Group - Virtual and In Person (ConnectAbility)
DESCRIPTION:This group offers support and socialization for those with low vision and their caregivers.\n\n\nIt meets on the 3rd Saturday from 9:30 AM – 11:30 AM\, through November.\n\nWe will meet in person at ConnectAbility:\n5101 Medical Dr.\n1st Floor\, Rm 132\n\nYou can join us virtually using your phone\, computer or tablet.\n\nLow Vision Zoom Meeting: \nhttps://zoom.us/j/98623043912 \nDial In:  346 248 7799 \nMeeting ID:  986 2304 3912   
URL:https://myconnectability.org/event/low-vision-support-group-virtual-and-in-person-connectability-2/2025-09-20/
LOCATION:ConnectAbility at Med Center\, 5101 Medical Drive\, San Antonio\, TX\, 78229\, United States
CATEGORIES:Care Coordination,Family + Caregiver Support,Peer Mentoring
END:VEVENT
BEGIN:VEVENT
DTSTART;TZID=UTC:20250920T160000
DTEND;TZID=UTC:20250920T173000
DTSTAMP:20260422T175119
CREATED:20241220T194256Z
LAST-MODIFIED:20241220T194256Z
UID:10005853-1758384000-1758389400@myconnectability.org
SUMMARY:Ostomy Support Group - In Person and Virtual
DESCRIPTION:The Ostomy Association of South Texas support group offers social and educational opportunities. It meets on the 3rd Saturday of each month from 4 PM – 5:30 PM. \nRegister by contacting Cristine Miller at 210-870-6842\, or cristine.miller90@gmail.com\, or by clicking the Zoom link below. \nThis group will meet at ConnectAbility: 5101 Medical Dr\, 1st Floor\, Rm 132. If you are unable to attend in person\, please click the Zoom link to attend virtually. \nhttps://zoom.us/j/91519031541 \nMeeting ID: 915 1903 1541 \nOne tap mobile +13462487799\,\,91519031541# \nDial: 346 248 7799 Meeting ID: 915 1903 1541
URL:https://myconnectability.org/event/ostomy-support-group-in-person-and-virtual-3/2025-09-20/
LOCATION:TX
CATEGORIES:Care Coordination,Family + Caregiver Support,Peer Mentoring
END:VEVENT
BEGIN:VEVENT
DTSTART;TZID=UTC:20250922T150000
DTEND;TZID=UTC:20250922T153000
DTSTAMP:20260422T175119
CREATED:20250228T211513Z
LAST-MODIFIED:20250228T211513Z
UID:10004258-1758553200-1758555000@myconnectability.org
SUMMARY:The LIVE Group: Low Impact Virtual Exercise Class - Virtual Only
DESCRIPTION:Join us every Monday\, Wednesday\, and Friday from 3:00 – 3:30 PM for an easy\, low-impact exercise group from the comfort of your home!\n\nALL skill levels are welcome!\nClick the link to join us and get ready to LIVE! https://zoom.us/j/95587045815\n\n\nFor more information\, contact Shelia Brown.  210-672-4097 (call/text) or sbrown@myconnectability.org
URL:https://myconnectability.org/event/live-group/2025-09-22/
LOCATION:ZOOM
CATEGORIES:Care Coordination,Family + Caregiver Support,Peer Mentoring
END:VEVENT
BEGIN:VEVENT
DTSTART;TZID=America/Chicago:20250924T123000
DTEND;TZID=America/Chicago:20250924T143000
DTSTAMP:20260422T175119
CREATED:20250919T215918Z
LAST-MODIFIED:20250919T220101Z
UID:10006676-1758717000-1758724200@myconnectability.org
SUMMARY:BINGOcize! = Bingo + Gentle Exercises
DESCRIPTION:Every Wednesday from 12:30 – 2:30 p.m. through December 3rd\, 2025 \nSpace is limited.  You must pre-register in order to participate. \nBingocize® is a health promotion program that combines the game of bingo with fall prevention exercises (seated or standing). Come play bingo and meet new people while learning about fall prevention! \nArrive at 11:30 a.m. to enjoy a healthy lunch for just $4! \nCome Play with Us! 😊 \nFor questions\, email: contact@myconnectability.org
URL:https://myconnectability.org/event/bingocize-bingo-gentle-exercises-2/2025-09-24/
LOCATION:ConnectAbility at Med Center\, 5101 Medical Drive\, San Antonio\, TX\, 78229\, United States
END:VEVENT
BEGIN:VEVENT
DTSTART;TZID=UTC:20250924T150000
DTEND;TZID=UTC:20250924T153000
DTSTAMP:20260422T175119
CREATED:20250228T211513Z
LAST-MODIFIED:20250228T211513Z
UID:10004259-1758726000-1758727800@myconnectability.org
SUMMARY:The LIVE Group: Low Impact Virtual Exercise Class - Virtual Only
DESCRIPTION:Join us every Monday\, Wednesday\, and Friday from 3:00 – 3:30 PM for an easy\, low-impact exercise group from the comfort of your home!\n\nALL skill levels are welcome!\nClick the link to join us and get ready to LIVE! https://zoom.us/j/95587045815\n\n\nFor more information\, contact Shelia Brown.  210-672-4097 (call/text) or sbrown@myconnectability.org
URL:https://myconnectability.org/event/live-group/2025-09-24/
LOCATION:ZOOM
CATEGORIES:Care Coordination,Family + Caregiver Support,Peer Mentoring
END:VEVENT
BEGIN:VEVENT
DTSTART;TZID=America/Chicago:20250924T183000
DTEND;TZID=America/Chicago:20250924T200000
DTSTAMP:20260422T175119
CREATED:20241220T195226Z
LAST-MODIFIED:20241220T195226Z
UID:10005901-1758738600-1758744000@myconnectability.org
SUMMARY:Alamo Head Injury Association Support Groups for SURVIVORS of Acquired Brain Injury and their Caregivers - In Person (ConnectAbility Med Center)
DESCRIPTION:Join AHIA on the 4th Wednesday of each month from 6:30PM – 8:00PM at ConnectAbility for our monthly support groups for survivors of an acquired brain injury. \nAt AHIA’s monthly meetings\, we strive to provide speakers and programs that benefit our members\, survivors\, and their families. This is a time to share experiences\, resources\, and encouragement and connect with a supportive group. Please let us know if you’re seeking personal support or guidance. We exist to serve you. \n*Caregivers are invited to attend a separate group meeting at the same time.* \nLight dinner will be provided. \nWe will meet in person at ConnectAbility at Med Center: 5101 Medical Dr.\, Room 132
URL:https://myconnectability.org/event/alamo-head-injury-association-support-groups-for-survivors-of-acquired-brain-injury-and-their-caregivers-in-person-connectability-med-center/2025-09-24/
LOCATION:ConnectAbility at Med Center\, 5101 Medical Drive\, San Antonio\, TX\, 78229\, United States
CATEGORIES:Care Coordination,Family + Caregiver Support,Peer Mentoring
END:VEVENT
BEGIN:VEVENT
DTSTART;TZID=America/Chicago:20250925T163000
DTEND;TZID=America/Chicago:20250925T170000
DTSTAMP:20260422T175119
CREATED:20250527T173759Z
LAST-MODIFIED:20250527T173938Z
UID:10006330-1758817800-1758819600@myconnectability.org
SUMMARY:Virtual Chair Zumba Class
DESCRIPTION:Every Thursday on Zoom! \n4:30 PM – 5:00 PM \nGet your dance on! Join us for a 30-minute dance fitness party where we’ll enjoy some great Latin music and fun dance moves from the comfort of your home! \nThis chair Zumba class focuses on upper body movements. Zumba is great for cardio health\, muscle endurance\, and most importantly having fun! \nZumba is for everybody and every ability level so click the link and let’s get moving! \nClick here to attend via Zoom:  https://us06web.zoom.us/j/89339423603
URL:https://myconnectability.org/event/virtual-chair-zumba-2/2025-09-25/
LOCATION:ZOOM
CATEGORIES:Care Coordination,Family + Caregiver Support,Peer Mentoring
END:VEVENT
BEGIN:VEVENT
DTSTART;TZID=America/Chicago:20250925T180000
DTEND;TZID=America/Chicago:20250925T190000
DTSTAMP:20260422T175119
CREATED:20250527T173043Z
LAST-MODIFIED:20250527T173443Z
UID:10006286-1758823200-1758826800@myconnectability.org
SUMMARY:Virtual Book Club - Virtual Only
DESCRIPTION:Introducing our new Virtual Book Club. Great reads from the comfort of your home! \nJoin us on Zoom every Thursday evening at 6:00 PM beginning on May 22. \nWe will choose a different book every month to “read” (or listen to the audiobook) and discuss together\, virtually! Click the Zoom link to attend: https://us06web.zoom.us/j/87686212819 \nContact Shelia brown at 210.672.4097 or sbrown@myconnectability.org for more info.
URL:https://myconnectability.org/event/virtual-book-club-2/2025-09-25/
LOCATION:ZOOM
CATEGORIES:Care Coordination,Family + Caregiver Support,Peer Mentoring
END:VEVENT
BEGIN:VEVENT
DTSTART;TZID=UTC:20250926T150000
DTEND;TZID=UTC:20250926T153000
DTSTAMP:20260422T175119
CREATED:20250228T211513Z
LAST-MODIFIED:20250228T211513Z
UID:10004260-1758898800-1758900600@myconnectability.org
SUMMARY:The LIVE Group: Low Impact Virtual Exercise Class - Virtual Only
DESCRIPTION:Join us every Monday\, Wednesday\, and Friday from 3:00 – 3:30 PM for an easy\, low-impact exercise group from the comfort of your home!\n\nALL skill levels are welcome!\nClick the link to join us and get ready to LIVE! https://zoom.us/j/95587045815\n\n\nFor more information\, contact Shelia Brown.  210-672-4097 (call/text) or sbrown@myconnectability.org
URL:https://myconnectability.org/event/live-group/2025-09-26/
LOCATION:ZOOM
CATEGORIES:Care Coordination,Family + Caregiver Support,Peer Mentoring
END:VEVENT
BEGIN:VEVENT
DTSTART;TZID=UTC:20250929T150000
DTEND;TZID=UTC:20250929T153000
DTSTAMP:20260422T175119
CREATED:20250228T211513Z
LAST-MODIFIED:20250228T211513Z
UID:10004261-1759158000-1759159800@myconnectability.org
SUMMARY:The LIVE Group: Low Impact Virtual Exercise Class - Virtual Only
DESCRIPTION:Join us every Monday\, Wednesday\, and Friday from 3:00 – 3:30 PM for an easy\, low-impact exercise group from the comfort of your home!\n\nALL skill levels are welcome!\nClick the link to join us and get ready to LIVE! https://zoom.us/j/95587045815\n\n\nFor more information\, contact Shelia Brown.  210-672-4097 (call/text) or sbrown@myconnectability.org
URL:https://myconnectability.org/event/live-group/2025-09-29/
LOCATION:ZOOM
CATEGORIES:Care Coordination,Family + Caregiver Support,Peer Mentoring
END:VEVENT
BEGIN:VEVENT
DTSTART;TZID=America/Chicago:20251001T123000
DTEND;TZID=America/Chicago:20251001T143000
DTSTAMP:20260422T175119
CREATED:20250919T215918Z
LAST-MODIFIED:20250919T220101Z
UID:10006677-1759321800-1759329000@myconnectability.org
SUMMARY:BINGOcize! = Bingo + Gentle Exercises
DESCRIPTION:Every Wednesday from 12:30 – 2:30 p.m. through December 3rd\, 2025 \nSpace is limited.  You must pre-register in order to participate. \nBingocize® is a health promotion program that combines the game of bingo with fall prevention exercises (seated or standing). Come play bingo and meet new people while learning about fall prevention! \nArrive at 11:30 a.m. to enjoy a healthy lunch for just $4! \nCome Play with Us! 😊 \nFor questions\, email: contact@myconnectability.org
URL:https://myconnectability.org/event/bingocize-bingo-gentle-exercises-2/2025-10-01/
LOCATION:ConnectAbility at Med Center\, 5101 Medical Drive\, San Antonio\, TX\, 78229\, United States
END:VEVENT
BEGIN:VEVENT
DTSTART;TZID=UTC:20251001T150000
DTEND;TZID=UTC:20251001T153000
DTSTAMP:20260422T175119
CREATED:20250228T211513Z
LAST-MODIFIED:20250228T211513Z
UID:10004262-1759330800-1759332600@myconnectability.org
SUMMARY:The LIVE Group: Low Impact Virtual Exercise Class - Virtual Only
DESCRIPTION:Join us every Monday\, Wednesday\, and Friday from 3:00 – 3:30 PM for an easy\, low-impact exercise group from the comfort of your home!\n\nALL skill levels are welcome!\nClick the link to join us and get ready to LIVE! https://zoom.us/j/95587045815\n\n\nFor more information\, contact Shelia Brown.  210-672-4097 (call/text) or sbrown@myconnectability.org
URL:https://myconnectability.org/event/live-group/2025-10-01/
LOCATION:ZOOM
CATEGORIES:Care Coordination,Family + Caregiver Support,Peer Mentoring
END:VEVENT
BEGIN:VEVENT
DTSTART;TZID=America/Chicago:20251002T163000
DTEND;TZID=America/Chicago:20251002T170000
DTSTAMP:20260422T175119
CREATED:20250527T173759Z
LAST-MODIFIED:20250527T173938Z
UID:10006331-1759422600-1759424400@myconnectability.org
SUMMARY:Virtual Chair Zumba Class
DESCRIPTION:Every Thursday on Zoom! \n4:30 PM – 5:00 PM \nGet your dance on! Join us for a 30-minute dance fitness party where we’ll enjoy some great Latin music and fun dance moves from the comfort of your home! \nThis chair Zumba class focuses on upper body movements. Zumba is great for cardio health\, muscle endurance\, and most importantly having fun! \nZumba is for everybody and every ability level so click the link and let’s get moving! \nClick here to attend via Zoom:  https://us06web.zoom.us/j/89339423603
URL:https://myconnectability.org/event/virtual-chair-zumba-2/2025-10-02/
LOCATION:ZOOM
CATEGORIES:Care Coordination,Family + Caregiver Support,Peer Mentoring
END:VEVENT
BEGIN:VEVENT
DTSTART;TZID=America/Chicago:20251002T180000
DTEND;TZID=America/Chicago:20251002T190000
DTSTAMP:20260422T175119
CREATED:20250527T173043Z
LAST-MODIFIED:20250527T173443Z
UID:10006287-1759428000-1759431600@myconnectability.org
SUMMARY:Virtual Book Club - Virtual Only
DESCRIPTION:Introducing our new Virtual Book Club. Great reads from the comfort of your home! \nJoin us on Zoom every Thursday evening at 6:00 PM beginning on May 22. \nWe will choose a different book every month to “read” (or listen to the audiobook) and discuss together\, virtually! Click the Zoom link to attend: https://us06web.zoom.us/j/87686212819 \nContact Shelia brown at 210.672.4097 or sbrown@myconnectability.org for more info.
URL:https://myconnectability.org/event/virtual-book-club-2/2025-10-02/
LOCATION:ZOOM
CATEGORIES:Care Coordination,Family + Caregiver Support,Peer Mentoring
END:VEVENT
END:VCALENDAR