BEGIN:VCALENDAR
VERSION:2.0
PRODID:-//ConnectAbility - ECPv6.15.18//NONSGML v1.0//EN
CALSCALE:GREGORIAN
METHOD:PUBLISH
X-WR-CALNAME:ConnectAbility
X-ORIGINAL-URL:https://myconnectability.org
X-WR-CALDESC:Events for ConnectAbility
REFRESH-INTERVAL;VALUE=DURATION:PT1H
X-Robots-Tag:noindex
X-PUBLISHED-TTL:PT1H
BEGIN:VTIMEZONE
TZID:America/Chicago
BEGIN:DAYLIGHT
TZOFFSETFROM:-0600
TZOFFSETTO:-0500
TZNAME:CDT
DTSTART:20240310T080000
END:DAYLIGHT
BEGIN:STANDARD
TZOFFSETFROM:-0500
TZOFFSETTO:-0600
TZNAME:CST
DTSTART:20241103T070000
END:STANDARD
BEGIN:DAYLIGHT
TZOFFSETFROM:-0600
TZOFFSETTO:-0500
TZNAME:CDT
DTSTART:20250309T080000
END:DAYLIGHT
BEGIN:STANDARD
TZOFFSETFROM:-0500
TZOFFSETTO:-0600
TZNAME:CST
DTSTART:20251102T070000
END:STANDARD
BEGIN:DAYLIGHT
TZOFFSETFROM:-0600
TZOFFSETTO:-0500
TZNAME:CDT
DTSTART:20260308T080000
END:DAYLIGHT
BEGIN:STANDARD
TZOFFSETFROM:-0500
TZOFFSETTO:-0600
TZNAME:CST
DTSTART:20261101T070000
END:STANDARD
END:VTIMEZONE
BEGIN:VTIMEZONE
TZID:UTC
BEGIN:STANDARD
TZOFFSETFROM:+0000
TZOFFSETTO:+0000
TZNAME:UTC
DTSTART:20240101T000000
END:STANDARD
END:VTIMEZONE
BEGIN:VEVENT
DTSTART;TZID=America/Chicago:20251001T123000
DTEND;TZID=America/Chicago:20251001T143000
DTSTAMP:20260422T151005
CREATED:20250919T215918Z
LAST-MODIFIED:20250919T220101Z
UID:10006677-1759321800-1759329000@myconnectability.org
SUMMARY:BINGOcize! = Bingo + Gentle Exercises
DESCRIPTION:Every Wednesday from 12:30 – 2:30 p.m. through December 3rd\, 2025 \nSpace is limited.  You must pre-register in order to participate. \nBingocize® is a health promotion program that combines the game of bingo with fall prevention exercises (seated or standing). Come play bingo and meet new people while learning about fall prevention! \nArrive at 11:30 a.m. to enjoy a healthy lunch for just $4! \nCome Play with Us! 😊 \nFor questions\, email: contact@myconnectability.org
URL:https://myconnectability.org/event/bingocize-bingo-gentle-exercises-2/2025-10-01/
LOCATION:ConnectAbility at Med Center\, 5101 Medical Drive\, San Antonio\, TX\, 78229\, United States
END:VEVENT
BEGIN:VEVENT
DTSTART;TZID=UTC:20251001T150000
DTEND;TZID=UTC:20251001T153000
DTSTAMP:20260422T151005
CREATED:20250228T211513Z
LAST-MODIFIED:20250228T211513Z
UID:10004262-1759330800-1759332600@myconnectability.org
SUMMARY:The LIVE Group: Low Impact Virtual Exercise Class - Virtual Only
DESCRIPTION:Join us every Monday\, Wednesday\, and Friday from 3:00 – 3:30 PM for an easy\, low-impact exercise group from the comfort of your home!\n\nALL skill levels are welcome!\nClick the link to join us and get ready to LIVE! https://zoom.us/j/95587045815\n\n\nFor more information\, contact Shelia Brown.  210-672-4097 (call/text) or sbrown@myconnectability.org
URL:https://myconnectability.org/event/live-group/2025-10-01/
LOCATION:ZOOM
CATEGORIES:Care Coordination,Family + Caregiver Support,Peer Mentoring
END:VEVENT
END:VCALENDAR