BEGIN:VCALENDAR
VERSION:2.0
PRODID:-//ConnectAbility - ECPv6.15.18//NONSGML v1.0//EN
CALSCALE:GREGORIAN
METHOD:PUBLISH
X-WR-CALNAME:ConnectAbility
X-ORIGINAL-URL:https://myconnectability.org
X-WR-CALDESC:Events for ConnectAbility
REFRESH-INTERVAL;VALUE=DURATION:PT1H
X-Robots-Tag:noindex
X-PUBLISHED-TTL:PT1H
BEGIN:VTIMEZONE
TZID:UTC
BEGIN:STANDARD
TZOFFSETFROM:+0000
TZOFFSETTO:+0000
TZNAME:UTC
DTSTART:20240101T000000
END:STANDARD
END:VTIMEZONE
BEGIN:VEVENT
DTSTART;TZID=UTC:20250920T093000
DTEND;TZID=UTC:20250920T113000
DTSTAMP:20260422T174915
CREATED:20241220T193859Z
LAST-MODIFIED:20250527T182757Z
UID:10006656-1758360600-1758367800@myconnectability.org
SUMMARY:Low Vision Support Group - Virtual and In Person (ConnectAbility)
DESCRIPTION:This group offers support and socialization for those with low vision and their caregivers.\n\n\nIt meets on the 3rd Saturday from 9:30 AM – 11:30 AM\, through November.\n\nWe will meet in person at ConnectAbility:\n5101 Medical Dr.\n1st Floor\, Rm 132\n\nYou can join us virtually using your phone\, computer or tablet.\n\nLow Vision Zoom Meeting: \nhttps://zoom.us/j/98623043912 \nDial In:  346 248 7799 \nMeeting ID:  986 2304 3912   
URL:https://myconnectability.org/event/low-vision-support-group-virtual-and-in-person-connectability-2/2025-09-20/
LOCATION:ConnectAbility at Med Center\, 5101 Medical Drive\, San Antonio\, TX\, 78229\, United States
CATEGORIES:Care Coordination,Family + Caregiver Support,Peer Mentoring
END:VEVENT
BEGIN:VEVENT
DTSTART;TZID=UTC:20250920T160000
DTEND;TZID=UTC:20250920T173000
DTSTAMP:20260422T174915
CREATED:20241220T194256Z
LAST-MODIFIED:20241220T194256Z
UID:10005853-1758384000-1758389400@myconnectability.org
SUMMARY:Ostomy Support Group - In Person and Virtual
DESCRIPTION:The Ostomy Association of South Texas support group offers social and educational opportunities. It meets on the 3rd Saturday of each month from 4 PM – 5:30 PM. \nRegister by contacting Cristine Miller at 210-870-6842\, or cristine.miller90@gmail.com\, or by clicking the Zoom link below. \nThis group will meet at ConnectAbility: 5101 Medical Dr\, 1st Floor\, Rm 132. If you are unable to attend in person\, please click the Zoom link to attend virtually. \nhttps://zoom.us/j/91519031541 \nMeeting ID: 915 1903 1541 \nOne tap mobile +13462487799\,\,91519031541# \nDial: 346 248 7799 Meeting ID: 915 1903 1541
URL:https://myconnectability.org/event/ostomy-support-group-in-person-and-virtual-3/2025-09-20/
LOCATION:TX
CATEGORIES:Care Coordination,Family + Caregiver Support,Peer Mentoring
END:VEVENT
END:VCALENDAR